BEGIN:VCALENDAR
VERSION:2.0
PRODID:-//OM Jungle Medicine - ECPv6.15.20//NONSGML v1.0//EN
CALSCALE:GREGORIAN
METHOD:PUBLISH
X-WR-CALNAME:OM Jungle Medicine
X-ORIGINAL-URL:https://omjunglemedicine.com
X-WR-CALDESC:Events for OM Jungle Medicine
REFRESH-INTERVAL;VALUE=DURATION:PT1H
X-Robots-Tag:noindex
X-PUBLISHED-TTL:PT1H
BEGIN:VTIMEZONE
TZID:UTC
BEGIN:STANDARD
TZOFFSETFROM:+0000
TZOFFSETTO:+0000
TZNAME:UTC
DTSTART:20220101T000000
END:STANDARD
END:VTIMEZONE
BEGIN:VEVENT
DTSTART;VALUE=DATE:20231110
DTEND;VALUE=DATE:20231113
DTSTAMP:20260419T180027
CREATED:20230914T200621Z
LAST-MODIFIED:20230922T185159Z
UID:7826-1699574400-1699833599@omjunglemedicine.com
SUMMARY:Grandmother Medicine Ceremony with Pablo
DESCRIPTION:🌿 Join Shaman Pablo on a Profound Ayahuasca Journey \nDiscover the transformative power of Ayahuasca under the guidance of Shaman Pablo\, a dedicated healer and the visionary founder of Yawarapunon. Yawarapunon is a governmental organization committed to preserving the invaluable medicines\, cherished customs\, and vibrant life of the Piaroa people in Venezuela\, South America. \n🌍 Shaman Pablo’s Dedication \nWith a remarkable journey\, Shaman Pablo has immersed himself in the world of ancient medicine and sacred ceremony. His mission goes far beyond healing; it’s about expanding consciousness and nurturing a profound awareness of one’s current and future life circumstances. \n🌌 Global Healing Presence \nShaman Pablo’s reach extends across the globe as he travels extensively\, touching the lives of individuals from all corners of the world. His journey carries with it the potent wisdom of plant medicines\, which he harnesses to facilitate profound transformations. \n🌱 What to Expect \nJoin us in this extraordinary ceremony led by Shaman Pablo to: \n– Expand Consciousness: Tap into deeper levels of awareness. \n– Discover Inner Wisdom: Unearth insights about your personal journey. \n– Heal and Transform: Experience profound healing on multiple levels. \n– Connect with the Sacred: Embrace the sacred traditions of the Piaroa people. \n– Shape Your Future: Gain clarity on your present and future path. \n🌟 An Invitation to Transformation \nThis is your chance to embark on a soulful voyage led by Shaman Pablo. Dive into the wisdom of ancient plant medicines\, connect with your inner self\, and chart a course toward personal growth and enlightenment. \n🍃 Join us on this life-changing journey\, and let Shaman Pablo be your guide to a world of healing and self-discovery.
URL:https://omjunglemedicine.com/event/grandmother-ceremony-with-pablo/
LOCATION:Om Jungle Medicine\, Om Jungle Medicine\, Provincia de Guanacaste\, Sámara\, Guanacaste\, Guanacaste\, 50801\, Costa Rica
ATTACH;FMTTYPE=image/png:https://omjunglemedicine.com/wp-content/uploads/2023/09/56CA78C0-4D2C-4455-9F00-229FA99EA0C9-e1708054662423.png
ORGANIZER;CN="OM Jungle Medicine":MAILTO:contact@omjunglemedicine.com
END:VEVENT
END:VCALENDAR