BEGIN:VCALENDAR
VERSION:2.0
PRODID:-//OM Jungle Medicine - ECPv6.15.20//NONSGML v1.0//EN
CALSCALE:GREGORIAN
METHOD:PUBLISH
X-WR-CALNAME:OM Jungle Medicine
X-ORIGINAL-URL:https://omjunglemedicine.com
X-WR-CALDESC:Events for OM Jungle Medicine
REFRESH-INTERVAL;VALUE=DURATION:PT1H
X-Robots-Tag:noindex
X-PUBLISHED-TTL:PT1H
BEGIN:VTIMEZONE
TZID:UTC
BEGIN:STANDARD
TZOFFSETFROM:+0000
TZOFFSETTO:+0000
TZNAME:UTC
DTSTART:20240101T000000
END:STANDARD
END:VTIMEZONE
BEGIN:VEVENT
DTSTART;VALUE=DATE:20251205
DTEND;VALUE=DATE:20251208
DTSTAMP:20260422T013821
CREATED:20251013T174017Z
LAST-MODIFIED:20251013T174017Z
UID:13707-1764892800-1765151999@omjunglemedicine.com
SUMMARY:Huni Kuin Tribe Weekend
DESCRIPTION:Step into a Sacred Amazonian Healing Journey with Paje Iba Inu Bake of the Huni Kuin People \nDiscover the profound wisdom and healing of Paje Iba Inu Bake\, a traditional healer from the Huni Kuin people of the Brazilian Amazon. Born in the village of Pinuya\, Iba grew up immersed in the ancestral knowledge of his lineage\, studying closely with his father\, Pajé Kupi\, one of Brazil’s most respected healers. Together\, they carry a strong and sacred lineage\, refined over generations. \nIba is a traditional healer and a master in crafting medicinal plants\, —creating drops\, rapé\, herbal baths\, leaf juices\, perfumes\, oils\, tinctures\, and creams. He is also a master of sacred prayers and traditional healing\, both with and without medicine\, offering profound ancestral wisdom in every practice. \nHis ceremonies are rooted in traditional Huni Kuin songs and prayers\, using Huni Meka\, a concentrated ritual of chants and energy work. This practice calls upon the forces of healing\, vision\, and wisdom\, working with the group in a highly focused and organized way throughout the night. \nAfter the main healing work\, the ceremony opens to moments of joy and celebration\, with music inspired by Huni Kuin traditions\, guitars\, and drums. While Iba does not play guitar himself\, he is accompanied by Ariana- Xacuani\, an advanced student of the Huni Kuin tribe\, curandera\, medicines music artist and translator of Portuguese and English\, who Will help guide the traditional songs and prayers with Iba\, and share her original medicine music\, adding joy\, Beauty and healing to the night \nFollowing the legacy of his father\, Iba Inu Bake leads ceremonies of powerful ancestral prayers and medicine\, offering participants a space to reconnect with sacred Amazonian wisdom\, receive spiritual healing\, and experience the transformative power of traditional songs and rituals. \n Join us in this sacred Amazonian ceremonies to:  \n– Reconnect with the ancestral wisdom of the Huni Kuin people \n– Receive deep energetic and spiritual healing \n– Experience the power of traditional songs and prayers \n– Work with concentrated ancestral energy for guidance\, vision\, and insight \n– Awaken your heart and consciousness through the strength of the jungle \nIncluded:  \n– 2 Nights of Master Plant Ceremonies \n– Traditional Songs\, Chants\, and Healing Prayers \n– Integration Circle with Tribe Guidance \n– Swimming Pool Access \n– All Farm-to-Table Meals by Conscious Chef \n– Pod in shared room \n*Separate female and male accommodations* \nYou can upgrade to semiprivate/private room for additional cost \nReach out to connect with us
URL:https://omjunglemedicine.com/event/huni-kuin-tribe-weekend-2/
ATTACH;FMTTYPE=image/jpeg:https://omjunglemedicine.com/wp-content/uploads/2025/10/d6b56b26-d161-48a9-a50c-dd25d2d2488c-e1760377166534.jpeg
ORGANIZER;CN="OM Jungle Medicine":MAILTO:contact@omjunglemedicine.com
END:VEVENT
END:VCALENDAR