BEGIN:VCALENDAR
VERSION:2.0
PRODID:-//OM Jungle Medicine - ECPv6.15.20//NONSGML v1.0//EN
CALSCALE:GREGORIAN
METHOD:PUBLISH
X-WR-CALNAME:OM Jungle Medicine
X-ORIGINAL-URL:https://omjunglemedicine.com
X-WR-CALDESC:Events for OM Jungle Medicine
REFRESH-INTERVAL;VALUE=DURATION:PT1H
X-Robots-Tag:noindex
X-PUBLISHED-TTL:PT1H
BEGIN:VTIMEZONE
TZID:UTC
BEGIN:STANDARD
TZOFFSETFROM:+0000
TZOFFSETTO:+0000
TZNAME:UTC
DTSTART:20240101T000000
END:STANDARD
END:VTIMEZONE
BEGIN:VEVENT
DTSTART;VALUE=DATE:20251210
DTEND;VALUE=DATE:20251217
DTSTAMP:20260421T182927
CREATED:20250718T180323Z
LAST-MODIFIED:20251010T152123Z
UID:12730-1765324800-1765929599@omjunglemedicine.com
SUMMARY:Andean Wisdom Week-long Retreat
DESCRIPTION:Welcome to this incredible week-long jungle experience with Saywa Pecho\, a powerful Medicine Woman from Peru. \nThis will be her second time outside of the country and we feel so blessed to have her back at OM Jungle Medicine for to share her wisdom about Wachuma Sacred plant\, Coca Leaves Medicine and Andean Ancestral Traditions. \nThis is an amazing opportunity to learn from her and to dive in a profound healing process\, reconnecting with the deepest part of ourselves and to our mother earth. \nThis will be a full week of ceremonies\, ancient rituals\, nature exploration and authentic humain connections. \nMeet your facilitators: \nSaywa Pecho is an Andean medicine woman from Peru. She comes from a healer family lineage and grew up immersed into healing traditions such as coca reading\, teacher plants and ancient wisdom. From a young age\, she started her training in Ancestral Knowledge\, Sacred Medicine and Andean Cosmovision She is the founder of JAMPITA SUYUNCHIS – a project of traditions and medicines preservation – with a special emphasis on the social and healing value of Coca leaves. Back in her community\, Saywa also leads women healing groups\, using ancestral practices and sacred plants. She works with Washuma\, Chullpas (Temazcales) and Coca Medicine. \nManouche\, Saywa’s student & dear friend will be assisting her throughout the retreat and facilitate some of the activities offered. Manouche works with energies\, natural medicines\, plants\, medicine music & sound healing. She has been living in Latin America for more than a decade. During this time\, she has been exploring & learning from many different cultures & traditions of the north & the south of this continent. \nIncluded: \n– 2 wachuma ceremonies (1 private retreat ceremony and 1 open community ceremony) \n– Integration sessions \n– Coca Medicine Wisdom Talk \n– Rapé Tobacco ceremony \n– Santa María ceremony \n– Temazcal Ancient ritual \n– Mother earth offering \n– Cacao ceremony \n– Energy cleanse & Flower Bath \n– Medicine Music \n– Fire circle \n– Swimming Pool \n– All Farm to table meals by conscious chef \n– Pod in shared accommodations \n*Separate female and male accommodations \nYou can upgrade to semiprivate/Private room for additional cost \nReach out to connect with us
URL:https://omjunglemedicine.com/event/andean-wisdom-week-long-jungle-retreat-2/
ATTACH;FMTTYPE=image/jpeg:https://omjunglemedicine.com/wp-content/uploads/2025/03/482780560_2125279414609226_1876120191546435231_n-e1741713699430.jpg
ORGANIZER;CN="OM Jungle Medicine":MAILTO:contact@omjunglemedicine.com
END:VEVENT
BEGIN:VEVENT
DTSTART;VALUE=DATE:20251213
DTEND;VALUE=DATE:20251215
DTSTAMP:20260421T182927
CREATED:20251010T143925Z
LAST-MODIFIED:20251010T154121Z
UID:13676-1765584000-1765756799@omjunglemedicine.com
SUMMARY:Cactus Community Gathering
DESCRIPTION:We feel so blessed to have Saywa Pecho at OM Jungle Medicine for Wachuma Ceremony. \nShe is a powerful Medicine woman from the Andean Peru with many years of experience in traditional healing. She comes from a healer family lineage and is the founder of – Jampita Suyunchis – a project of Ancestral Wisdom & Sacred Medicines preservation. \nWe will gather on December 13th for a full day of connection & healing with Wachuma Cactus Medicine. We will explore the magic land of OM Jungle & mother nature\, the power of sacred prayers & ancient chanting and celebrate life on earth together. \nWachuma is a powerful sacred medicine with deep roots in South American indigenous traditions. It has been used for thousands of years for therapeutic\, spiritual and healing purposes. It contains many different alkaloids\, including Mescaline – a psychoactive susbtance that induce altered states of consciousness. \nThis Master plant is found in the Andeans mountains and represents a powerful guide to remember our true essence\, connect with the divine and heal mind\, body\, heart and soul. \nThis is a sacred ceremony to embark into a deep inner journey\, to open our heart\, release what’s no longer needed and heal. This is a space of self discovery\, personal growth\, spiritual exploration. Reach out for more info and booking \nIncluded: \n– 1 Wachuma ceremony \n– Integration circle \n– Farm to table meals by conscious chef \n– Swimming pool \n– Pod in shared room \nReach out to connect with us
URL:https://omjunglemedicine.com/event/cactus-community-gathering/
ATTACH;FMTTYPE=image/jpeg:https://omjunglemedicine.com/wp-content/uploads/2025/10/aec514ed-820d-48bd-aae3-749607addba6.jpeg
END:VEVENT
END:VCALENDAR