BEGIN:VCALENDAR
VERSION:2.0
PRODID:-//OM Jungle Medicine - ECPv6.15.20//NONSGML v1.0//EN
CALSCALE:GREGORIAN
METHOD:PUBLISH
X-WR-CALNAME:OM Jungle Medicine
X-ORIGINAL-URL:https://omjunglemedicine.com
X-WR-CALDESC:Events for OM Jungle Medicine
REFRESH-INTERVAL;VALUE=DURATION:PT1H
X-Robots-Tag:noindex
X-PUBLISHED-TTL:PT1H
BEGIN:VTIMEZONE
TZID:UTC
BEGIN:STANDARD
TZOFFSETFROM:+0000
TZOFFSETTO:+0000
TZNAME:UTC
DTSTART:20240101T000000
END:STANDARD
END:VTIMEZONE
BEGIN:VEVENT
DTSTART;VALUE=DATE:20251218
DTEND;VALUE=DATE:20251223
DTSTAMP:20260421T150633
CREATED:20250720T023804Z
LAST-MODIFIED:20250924T164239Z
UID:12751-1766016000-1766447999@omjunglemedicine.com
SUMMARY:Sound Of Creation ; OM Solstice Medicine Festival
DESCRIPTION:Dear Family\, \nWe are beyond thrilled to share some very special news with all of you… \nWe are launching our very first OM Solstice Medicine Festival: \n𝙎𝙤𝙪𝙣𝙙 𝙤𝙛 𝘾𝙧𝙚𝙖𝙩𝙞𝙤𝙣 \nA 4-day gathering from December 18th to 21st\, held on the land of OM Jungle Medicine in Guanacaste\, Costa Rica. \nThis festival is a celebration of life — a call for community\, connection and remembrance through medicine music\, workshops\, art\, culture\, ceremonies\, traditional food and much more. \nTogether\, we will honor Mother Earth\, ancestral wisdom and indigenous traditions that continue to guide and inspire us. We’ll have very special medicine men and women joining us to share their stories\, their songs\, their knowledge and healing practices\, alongside a full daily program of enriching activities. \n𝘚𝘢𝘤𝘳𝘦𝘥 𝘖𝘱𝘦𝘯𝘪𝘯𝘨 𝘊𝘦𝘳𝘦𝘮𝘰𝘯𝘺 – 𝘛𝘦𝘮𝘢𝘻𝘤𝘢𝘭 – 𝘞𝘪𝘴𝘥𝘰𝘮 𝘚𝘩𝘢𝘳𝘪𝘯𝘨 𝘊𝘪𝘳𝘤𝘭𝘦𝘴 – 𝘊𝘢𝘤𝘢𝘰 𝘊𝘦𝘳𝘦𝘮𝘰𝘯𝘺 – 𝘙𝘢𝘱é 𝘊𝘪𝘳𝘤𝘭𝘦 – 𝘔𝘦𝘥𝘪𝘤𝘪𝘯𝘦 𝘔𝘶𝘴𝘪𝘤 – 𝘌𝘤𝘴𝘵𝘢𝘵𝘪𝘤 𝘥𝘢𝘯𝘤𝘦 – 𝘔𝘢𝘮𝘢 𝘊𝘰𝘤𝘢 𝘵𝘢𝘭𝘬 – 𝘋𝘳𝘶𝘮 𝘊𝘪𝘳𝘤𝘭𝘦 – 𝘒𝘪𝘳𝘵𝘢𝘯 – 𝘈𝘯𝘤𝘦𝘴𝘵𝘳𝘢𝘭 𝘊𝘰𝘰𝘬𝘪𝘯𝘨 𝘊𝘭𝘢𝘴𝘴 – 𝘉𝘳𝘦𝘢𝘵𝘩𝘸𝘰𝘳𝘬- 𝘐𝘤𝘦𝘣𝘢𝘵𝘩 – 𝘈𝘳𝘵 & 𝘍𝘪𝘳𝘦 𝘴𝘩𝘰𝘸 – 𝘕𝘢𝘵𝘶𝘳𝘢𝘭 𝘙𝘦𝘮𝘦𝘥𝘪𝘦𝘴 & 𝘩𝘦𝘳𝘣𝘢𝘭 𝘵𝘦𝘢𝘴 & 𝘔𝘶𝘤𝘩 𝘔𝘰𝘳𝘦 \n Alcohol & Drug Free Event  \nSpace is limited\, so we encourage you to save your spot early for this one-of-a-kind gathering. \nPricing : \n𝗖𝗮𝗺𝗽𝗶𝗻𝗴 \nEarly bird $500 [BUY] \nFull price $600 [BUY] \n𝗦𝗵𝗮𝗿𝗲𝗱 space (separate male/female) \nEarly bird $650 [BUY] \nFull price $750 [BUY] \n𝗣𝗿𝗶𝘃𝗮𝘁𝗲 𝗖𝗮𝗯𝗶𝗻𝗮 𝘀𝗶𝗻𝗴𝗹𝗲 𝗼𝗰𝗰𝘂𝗽𝗮𝗻𝗰𝘆 \nFull price $1000 [SOLD OUT] \n𝗣𝗿𝗶𝘃𝗮𝘁𝗲 𝗖𝗮𝗯𝗶𝗻𝗮 𝗱𝗼𝘂𝗯𝗹𝗲 𝗼𝗰𝗰𝘂𝗽𝗮𝗻𝗰𝘆 \nFull Price $900 [SOLD OUT] \nEnjoy our early bird pricing until November 18th ! \nSpecial Offerings  ( Separate from the main festival program)  \nOn the 22nd\, our medicine carriers will share their Sacred Ceremonies with us. \n𝖣𝖺𝗒 𝖢𝖾𝗋𝖾𝗆𝗈𝗇𝗒 Grandfather Medicine with Saywa \n𝖭𝗂𝗀𝗁𝗍 𝖢𝖾𝗋𝖾𝗆𝗈𝗇𝗒 Grandmother Medicine with Pablo \nThese ceremonies are open to our community – Limited spots available\, please confirm your participation in advance with Angel +50688853877 \n— More details coming soon — \nStay tuned via our Facebook and Instagram: \nSound of Creation OM Festival \nWith love\, The OM Jungle Medicine Family
URL:https://omjunglemedicine.com/event/sound-of-creation-om-solstice-medicine-festival/
ATTACH;FMTTYPE=image/jpeg:https://omjunglemedicine.com/wp-content/uploads/2025/07/b824e536-f625-43f2-94fa-e9be7cc1b028-e1753753494454.jpg
ORGANIZER;CN="OM Jungle Medicine":MAILTO:contact@omjunglemedicine.com
END:VEVENT
END:VCALENDAR