BEGIN:VCALENDAR
VERSION:2.0
PRODID:-//OM Jungle Medicine - ECPv6.15.20//NONSGML v1.0//EN
CALSCALE:GREGORIAN
METHOD:PUBLISH
X-ORIGINAL-URL:https://omjunglemedicine.com
X-WR-CALDESC:Events for OM Jungle Medicine
REFRESH-INTERVAL;VALUE=DURATION:PT1H
X-Robots-Tag:noindex
X-PUBLISHED-TTL:PT1H
BEGIN:VTIMEZONE
TZID:UTC
BEGIN:STANDARD
TZOFFSETFROM:+0000
TZOFFSETTO:+0000
TZNAME:UTC
DTSTART:20240101T000000
END:STANDARD
END:VTIMEZONE
BEGIN:VEVENT
DTSTART;VALUE=DATE:20250417
DTEND;VALUE=DATE:20250421
DTSTAMP:20260421T162538
CREATED:20250204T200353Z
LAST-MODIFIED:20250207T012449Z
UID:10908-1744848000-1745193599@omjunglemedicine.com
SUMMARY:Traditional Yopo Retreat
DESCRIPTION:Welcome to this incredible 4 day jungle experience. \nJoin us in this healing retreat through organic cleansing and spiritual connection. Here\, in this sacred\, protected and guided space\, you’ll be able to confront your ego and experience the consciousness of unity. \nYopo has been used for thousands of years by the Piaroa people of Venezuela. We are blessed to receive the wisdom of our ancestors and return to our hearts and learn to navigate through life with joy and a deep sense of gratitude. \nYopo is a snuff derived from the seed of the yopo Tree.\nIt creates an experience of great consciousness expansion. \nAccording to the Piaroa shaman\, this ancient seed performs\, transforms and generates a great awareness of current and future environmental\, social and personal circumstances. \nYopo can assist in: \nEmotional health \n• Resolve past traumas\n• Eliminate mental and emotional blocks\n• Develop a better understanding of important life events\n• Detoxifies the body and mind\n• Improve relationships\n• Renew the purpose\n• Cultivate greater humility\n• Improve mental clarity and concentration\n• Nourish self-confidence \nMental health \n• Depression\n• PTSD\n• OCD\n• Grief for the loss\n• Anger\n• Anxiety\n• Stress\n• Fear\n• ADHD\n• Negativity \nPhysical Health \n• Chronic fatigue\n• Sleep disorders\n• Inflammation\n• Autoimmune disorders\n• Digestive problems\n• Diabetes \nMeet your facilitator: \nPablo Gallardo is a pioneer in Anadenanthera peregrina\, also known as “YOPO”. \nPablo is also the founder of Yawarapu Non-governmental organization for the preservation of wisdom\, customs\, and life of the piaroa in Venezuela. The grandfather José Antonio Bolívar\, the senior shaman of the Piaroa people of Venezuela\, trained Pablo in 2012. Since then\, 13 years ago\, Pablo has been carrying Yopo as part of his healing path. \nMedicine Man Pablo Gallardo now travels extensively\, offering plant wisdom to people\, from all over the world\, with these powerful ceremonies. He attends conferences regularly and shares his knowledge with other doctors\, scientists\, ethnobotanists and other professionals. He is a firm believer in the immense potential that Yopo offers to humanity. \nIncluded: \n– 2 Yopo Ceremonies\n– 2 Integration Sessions\n– 1 Work Shop\n– All Farm To Table Meals By Conscious Chef\n– Swimming Pool\n– Ice Bath\n– Fire Circle\n– Pod in Shared Accommodations\n*Separate female and male accommodations  \nYou can upgrade to semiprivate/private room for additional cost \nReach out to connect with us
URL:https://omjunglemedicine.com/event/traditional-yopo-retreat/
ATTACH;FMTTYPE=image/jpeg:https://omjunglemedicine.com/wp-content/uploads/2023/08/75644F89-2028-44F5-8C22-56708F0A707F-1.jpeg
ORGANIZER;CN="OM Jungle Medicine":MAILTO:contact@omjunglemedicine.com
END:VEVENT
BEGIN:VEVENT
DTSTART;VALUE=DATE:20250424
DTEND;VALUE=DATE:20250428
DTSTAMP:20260421T162538
CREATED:20241111T154612Z
LAST-MODIFIED:20241111T154612Z
UID:10168-1745452800-1745798399@omjunglemedicine.com
SUMMARY:Voice Activation & Medicine Singing
DESCRIPTION:This is an opportunity to explore the powers of your voice as a profound inner tool to heal\, to pray\, to express your truth and cultivate deeper connections with self\, with others & with the world. \nWe offer a safe and nurturing environment that encourages authenticity\, creativity\, self discoveries\, transformation and empowerment.  \nWe will learn how to activate our voice\, practice medicine songs with specific intentions & purposes and sing together within different sacred rituals.  \nMeet your facilitator: \nManouche is a Shamanic Reiki Gran Master and developed her own holistic healing project called Satya_Medicina.Natural.  \nManouche works with energies\, natural medicines\, plants\, medicine music & sound healing\, She was born & raised in Belgium and has now been living in Latin America for more than 10 years. During those years\, she has been learning the profound depth of the voice medicine\, exploring many different cultures & traditions of the north & the south of this continent.  \nManouche will be sharing her voice and all her secrets to unleash this inner wisdom. \nIncluded:  \n-Voice activation & Singing workshop\n-Singing as a healing tool to connect with ourselves\n-Singing as a vibration tool to connect with spiritual energies\n-Santa Maria ceremony & the power of the sounds\n-Temazcal Ritual & the songs of the elements\n-Cacao ceremony & the songs of the heart\n-Rapé ceremony & the tobacco songs\n-All farm to table meals by conscious chef\n-Swimming pool\n-Ice bath\n-Shared accommodations\n*Separate female and male accommodations  \nYou can upgrade to semiprivate/private room for additional cost \nReach out to connect with us.
URL:https://omjunglemedicine.com/event/voice-activation-medicine-singing-3/
ATTACH;FMTTYPE=image/jpeg:https://omjunglemedicine.com/wp-content/uploads/2024/04/433720026_388627734092512_965309328696961440_n-1-e1749057618911.jpg
ORGANIZER;CN="OM Jungle Medicine":MAILTO:contact@omjunglemedicine.com
END:VEVENT
END:VCALENDAR