BEGIN:VCALENDAR
VERSION:2.0
PRODID:-//OM Jungle Medicine - ECPv6.15.20//NONSGML v1.0//EN
CALSCALE:GREGORIAN
METHOD:PUBLISH
X-ORIGINAL-URL:https://omjunglemedicine.com
X-WR-CALDESC:Events for OM Jungle Medicine
REFRESH-INTERVAL;VALUE=DURATION:PT1H
X-Robots-Tag:noindex
X-PUBLISHED-TTL:PT1H
BEGIN:VTIMEZONE
TZID:UTC
BEGIN:STANDARD
TZOFFSETFROM:+0000
TZOFFSETTO:+0000
TZNAME:UTC
DTSTART:20240101T000000
END:STANDARD
END:VTIMEZONE
BEGIN:VEVENT
DTSTART;VALUE=DATE:20250704
DTEND;VALUE=DATE:20250707
DTSTAMP:20260421T210728
CREATED:20250412T000738Z
LAST-MODIFIED:20250412T000738Z
UID:11536-1751587200-1751846399@omjunglemedicine.com
SUMMARY:Grandmother Wisdom Weekend
DESCRIPTION:Join Shaman Pablo on a Profound Master Plants Journey. \nDiscover the transformative power of Master Plants under the guidance of Shaman Pablo\, a dedicated healer and the visionary founder of Yawarapunon. Yawarapunon is a governmental organization committed to preserving the invaluable medicines\, cherished customs\, and vibrant life of the Piaroa people in Venezuela\, South America. \nWith a remarkable journey\, Shaman Pablo has immersed himself in the world of ancient medicine and sacred ceremony. His mission goes far beyond healing; it’s about expanding consciousness and nurturing a profound awareness of one’s current and future life circumstances. \nThis is your chance to embark on a soulful voyage. Dive into the wisdom of ancient master plants\, connect with your inner self\, and chart a course toward personal growth and enlightenment. \nJoin us in this extraordinary ceremony led by Shaman Pablo to: \n– Expand Consciousness: Tap into deeper levels of awareness. \n– Discover Inner Wisdom: Unearth insights about your personal journey. \n– Heal and Transform: Experience profound healing on multiple levels. \n– Connect with the Sacred: Embrace the sacred traditions of the Piaroa people. \n– Shape Your Future: Gain clarity on your present and future path. \nIncluded: \n– 2 Nights Of Master Plant Ceremonies\n– Live Medicine Music\n– Integration Circle\n– Swimming Pool\n– All Farm To Table Meals By Conscious Chef\n– Pod in shared room\n*Separate female and male accommodations \nYou can upgrade to semiprivate/private room for additional cost \nReach out to connect with us
URL:https://omjunglemedicine.com/event/grandmother-wisdom-weekend-9/
ATTACH;FMTTYPE=image/jpeg:https://omjunglemedicine.com/wp-content/uploads/2024/04/435740213_739044791715121_3430507421243942664_n-e1713279540272.jpg
ORGANIZER;CN="OM Jungle Medicine":MAILTO:contact@omjunglemedicine.com
END:VEVENT
BEGIN:VEVENT
DTSTART;VALUE=DATE:20250717
DTEND;VALUE=DATE:20250723
DTSTAMP:20260421T210728
CREATED:20250603T154518Z
LAST-MODIFIED:20250603T154518Z
UID:12200-1752710400-1753228799@omjunglemedicine.com
SUMMARY:Energy Healing & Ancestral Wisdom Retreat
DESCRIPTION:Shamanic Reiki 1 & 2 – Certified Training & Healing Retreat \n6 day retreat to learn\, to heal and connect together – immersed into nature in a gorgeous retreat space \nDuring this training\, you will learn how to tap into your inner healing abilities with Reiki\, Shamanic tools & ceremonies. \nYou will learn about energy work and how to apply it on yourself & others. \nThis is also an opportunity dive into a deep personal transformation journey with the power of Energies & Sacred Medicines \n✴️Our program✴️ \nReiki Healing: \n– History & principles\n– Chakras & their functions\n– Methods & practices\n– Reiki Self Healing\n– Reiki treatment to others \nAncestral Wisdom: \n– 4 elements teachings\n– Andean wisdom: La Chakana\n– Reiki & elements of nature\n– Energy cleanse & protection with plants\n– Sacred plants & their healing powers \nSacred Ceremonies: \n– Santa Maria Ceremony\n– Rapé Tobacco Circle\n– Flower bath\n– Temazcal Ritual\n– Reiki Attunement Ceremony \nWhat’s Included: \n– All activities and ceremonies\n– PDF guidebook\n– Shamanic Reiki 1 & 2 certification\n– Swimming Pool\n– Ice bath\n– All farm to table meals by conscious chef\n– 5 nights accommodation in shared dorm\n*separate female and male accommodations \nYou can upgrade to semiprivate/private cabina for additional cost \nReach out to connect with us \nWe will be offering a sliding scale price for this retreat $1250.00 – $1500.00 USD
URL:https://omjunglemedicine.com/event/energy-healing-ancestral-wisdom-retreat/
ATTACH;FMTTYPE=image/jpeg:https://omjunglemedicine.com/wp-content/uploads/2025/06/d937df6d-738a-4686-b389-d611048ad669.jpg
ORGANIZER;CN="OM Jungle Medicine":MAILTO:contact@omjunglemedicine.com
END:VEVENT
END:VCALENDAR